BEGIN:VCALENDAR
VERSION:2.0
PRODID:-//Life Remodeled - ECPv6.15.20//NONSGML v1.0//EN
CALSCALE:GREGORIAN
METHOD:PUBLISH
X-ORIGINAL-URL:https://liferemodeled.org
X-WR-CALDESC:Events for Life Remodeled
REFRESH-INTERVAL;VALUE=DURATION:PT1H
X-Robots-Tag:noindex
X-PUBLISHED-TTL:PT1H
BEGIN:VTIMEZONE
TZID:UTC
BEGIN:STANDARD
TZOFFSETFROM:+0000
TZOFFSETTO:+0000
TZNAME:UTC
DTSTART:20230101T000000
END:STANDARD
END:VTIMEZONE
BEGIN:VEVENT
DTSTART;TZID=UTC:20260228T110000
DTEND;TZID=UTC:20260228T143000
DTSTAMP:20260423T092642
CREATED:20260130T195416Z
LAST-MODIFIED:20260130T195416Z
UID:10607-1772276400-1772289000@liferemodeled.org
SUMMARY:LRCAC Black History Month Luncheon
DESCRIPTION:Join the Life Remodeled Community Advisory Council for their FREE Black History Month Luncheon. Saturday\, February 28\, 2026 from 11:00 am – 2:30 pm at the Durfee Innovation Society. \nThe keynote speaker is Dwan Dandridge\, CEO and Founder of Black Leaders of Detroit. \n  \nVisit bit.ly/BHL-26 to register. \n 
URL:https://liferemodeled.org/event/lrcac-black-history-month-luncheon/
LOCATION:Durfee Innovation Society\, 2470 Collingwood St.\, Detroit\, MI\, 48206\, United States
CATEGORIES:DIS,Life Remodeled
ATTACH;FMTTYPE=image/jpeg:https://liferemodeled.org/wp-content/uploads/2026/01/LRAC_BHL-26-for-web.jpg
END:VEVENT
BEGIN:VEVENT
DTSTART;TZID=UTC:20251024T160000
DTEND;TZID=UTC:20251024T180000
DTSTAMP:20260423T092642
CREATED:20251009T162852Z
LAST-MODIFIED:20251009T162852Z
UID:10517-1761321600-1761328800@liferemodeled.org
SUMMARY:DIS Trunk or Treat
DESCRIPTION:
URL:https://liferemodeled.org/event/dis-trunk-or-treat-3/
LOCATION:Durfee Innovation Society\, 2470 Collingwood St.\, Detroit\, MI\, 48206\, United States
CATEGORIES:DIS
ATTACH;FMTTYPE=image/jpeg:https://liferemodeled.org/wp-content/uploads/2023/08/trunkortreat_logo13.jpg
END:VEVENT
BEGIN:VEVENT
DTSTART;TZID=UTC:20250815T160000
DTEND;TZID=UTC:20250815T200000
DTSTAMP:20260423T092642
CREATED:20250626T172108Z
LAST-MODIFIED:20250626T172108Z
UID:10280-1755273600-1755288000@liferemodeled.org
SUMMARY:Durfee Innovation Society Community Fair
DESCRIPTION:
URL:https://liferemodeled.org/event/durfee-innovation-society-community-fair/
LOCATION:Durfee Innovation Society\, 2470 Collingwood St.\, Detroit\, MI\, 48206\, United States
CATEGORIES:DIS,Life Remodeled
ATTACH;FMTTYPE=image/jpeg:https://liferemodeled.org/wp-content/uploads/2025/06/Comm-Fair-25-1200x1200-general-scaled.jpg
END:VEVENT
BEGIN:VEVENT
DTSTART;TZID=UTC:20250604T090000
DTEND;TZID=UTC:20250604T150000
DTSTAMP:20260423T092642
CREATED:20250519T151300Z
LAST-MODIFIED:20250519T151300Z
UID:10237-1749027600-1749049200@liferemodeled.org
SUMMARY:Detroit at Work Job Fair
DESCRIPTION:
URL:https://liferemodeled.org/event/detroit-at-work-job-fair-7/
LOCATION:Durfee Innovation Society\, 2470 Collingwood St.\, Detroit\, MI\, 48206\, United States
CATEGORIES:DIS
ATTACH;FMTTYPE=image/jpeg:https://liferemodeled.org/wp-content/uploads/2021/03/DAW1.jpg
END:VEVENT
BEGIN:VEVENT
DTSTART;TZID=UTC:20250529T180000
DTEND;TZID=UTC:20250529T193000
DTSTAMP:20260423T092642
CREATED:20250519T195615Z
LAST-MODIFIED:20250519T213458Z
UID:10246-1748541600-1748547000@liferemodeled.org
SUMMARY:Free Hustle Classes – Life Remodeled Community Advisory Board
DESCRIPTION:FREE event \n\nAll ages and dance levels are welcome! The legendary Fast Freddy leads the dance instructions.
URL:https://liferemodeled.org/event/free-hustle-classes-life-remodeled-community-advisory-board-2/
LOCATION:Durfee Innovation Society\, 2470 Collingwood St.\, Detroit\, MI\, 48206\, United States
CATEGORIES:DIS
ATTACH;FMTTYPE=image/jpeg:https://liferemodeled.org/wp-content/uploads/2025/01/Lr-favicon.jpg
END:VEVENT
BEGIN:VEVENT
DTSTART;TZID=UTC:20250522T180000
DTEND;TZID=UTC:20250522T193000
DTSTAMP:20260423T092642
CREATED:20250519T191521Z
LAST-MODIFIED:20250519T213716Z
UID:10244-1747936800-1747942200@liferemodeled.org
SUMMARY:Free Hustle Classes - Life Remodeled Community Advisory Board
DESCRIPTION:FREE event \nAll ages and dance levels are welcome! The legendary Fast Freddy leads the dance instructions. \n 
URL:https://liferemodeled.org/event/free-hustle-classes-life-remodeled-community-advisory-board/
LOCATION:Durfee Innovation Society\, 2470 Collingwood St.\, Detroit\, MI\, 48206\, United States
CATEGORIES:DIS
ATTACH;FMTTYPE=image/jpeg:https://liferemodeled.org/wp-content/uploads/2025/01/Lr-favicon.jpg
END:VEVENT
BEGIN:VEVENT
DTSTART;TZID=UTC:20250428T100000
DTEND;TZID=UTC:20250428T160000
DTSTAMP:20260423T092642
CREATED:20250317T160741Z
LAST-MODIFIED:20250317T160741Z
UID:10125-1745834400-1745856000@liferemodeled.org
SUMMARY:Wayne Mobile Health Unit
DESCRIPTION:Get Healthy in 2025! \nWHMU & Molina SERVICES: \n\nWomen’s Preventative Health Screening\nPre-pregnancy health services\nPrenatal care\nContraception\nBlood Pressure Screening\nGeneral Health Screenings: Diabetes\, Cholesterol\, Kidney Function screening\n2024-2025 Standard Influenza Vaccine (5+) *Subject to availability.  We bill health insurance for vaccines.  There is no cost to an individual who does not have insurance coverage.\nCOVID-19 PCR testing (3+ years old) for symptomatic individuals *we do not offer routine screening.\nAppointments not required\nParental/Guardian authorization is required for any individuals under the age of 18 for all services outside of the HIV Screening (13 year and up).\n\nServices that may be available: \n\nHIV testing (13+ years old\, results within 20 minutes)\nLinkage to care and community resources offering some amazing services.\n\n\nDurfee Flyer (2)
URL:https://liferemodeled.org/event/wayne-mobile-health-unit-7/
LOCATION:Durfee Innovation Society\, 2470 Collingwood St.\, Detroit\, MI\, 48206\, United States
CATEGORIES:DIS
END:VEVENT
BEGIN:VEVENT
DTSTART;TZID=UTC:20250421T100000
DTEND;TZID=UTC:20250421T160000
DTSTAMP:20260423T092642
CREATED:20250317T160628Z
LAST-MODIFIED:20250317T160628Z
UID:10123-1745229600-1745251200@liferemodeled.org
SUMMARY:Wayne Mobile Health Unit
DESCRIPTION:Get Healthy in 2025! \nWHMU & Molina SERVICES: \n\nWomen’s Preventative Health Screening\nPre-pregnancy health services\nPrenatal care\nContraception\nBlood Pressure Screening\nGeneral Health Screenings: Diabetes\, Cholesterol\, Kidney Function screening\n2024-2025 Standard Influenza Vaccine (5+) *Subject to availability.  We bill health insurance for vaccines.  There is no cost to an individual who does not have insurance coverage.\nCOVID-19 PCR testing (3+ years old) for symptomatic individuals *we do not offer routine screening.\nAppointments not required\nParental/Guardian authorization is required for any individuals under the age of 18 for all services outside of the HIV Screening (13 year and up).\n\nServices that may be available: \n\nHIV testing (13+ years old\, results within 20 minutes)\nLinkage to care and community resources offering some amazing services.\n\n\nDurfee Flyer (2)
URL:https://liferemodeled.org/event/wayne-mobile-health-unit-6/
LOCATION:Durfee Innovation Society\, 2470 Collingwood St.\, Detroit\, MI\, 48206\, United States
CATEGORIES:DIS
ATTACH;FMTTYPE=image/jpeg:https://liferemodeled.org/wp-content/uploads/2025/03/ways-mobile.jpg
END:VEVENT
BEGIN:VEVENT
DTSTART;TZID=UTC:20250414T100000
DTEND;TZID=UTC:20250414T160000
DTSTAMP:20260423T092642
CREATED:20250317T160503Z
LAST-MODIFIED:20250317T160503Z
UID:10121-1744624800-1744646400@liferemodeled.org
SUMMARY:Wayne Mobile Health Unit
DESCRIPTION:Get Healthy in 2025! \nWHMU & Molina SERVICES: \n\nWomen’s Preventative Health Screening\nPre-pregnancy health services\nPrenatal care\nContraception\nBlood Pressure Screening\nGeneral Health Screenings: Diabetes\, Cholesterol\, Kidney Function screening\n2024-2025 Standard Influenza Vaccine (5+) *Subject to availability.  We bill health insurance for vaccines.  There is no cost to an individual who does not have insurance coverage.\nCOVID-19 PCR testing (3+ years old) for symptomatic individuals *we do not offer routine screening.\nAppointments not required\nParental/Guardian authorization is required for any individuals under the age of 18 for all services outside of the HIV Screening (13 year and up).\n\nServices that may be available: \n\nHIV testing (13+ years old\, results within 20 minutes)\nLinkage to care and community resources offering some amazing services.\n\n\nDurfee Flyer (2)
URL:https://liferemodeled.org/event/wayne-mobile-health-unit-5/
LOCATION:Durfee Innovation Society\, 2470 Collingwood St.\, Detroit\, MI\, 48206\, United States
CATEGORIES:DIS
ATTACH;FMTTYPE=image/jpeg:https://liferemodeled.org/wp-content/uploads/2025/03/ways-mobile.jpg
END:VEVENT
BEGIN:VEVENT
DTSTART;TZID=UTC:20250407T100000
DTEND;TZID=UTC:20250407T160000
DTSTAMP:20260423T092642
CREATED:20250317T160357Z
LAST-MODIFIED:20250317T160357Z
UID:10119-1744020000-1744041600@liferemodeled.org
SUMMARY:Wayne Mobile Health Unit
DESCRIPTION:Get Healthy in 2025! \nWHMU & Molina SERVICES: \n\nWomen’s Preventative Health Screening\nPre-pregnancy health services\nPrenatal care\nContraception\nBlood Pressure Screening\nGeneral Health Screenings: Diabetes\, Cholesterol\, Kidney Function screening\n2024-2025 Standard Influenza Vaccine (5+) *Subject to availability.  We bill health insurance for vaccines.  There is no cost to an individual who does not have insurance coverage.\nCOVID-19 PCR testing (3+ years old) for symptomatic individuals *we do not offer routine screening.\nAppointments not required\nParental/Guardian authorization is required for any individuals under the age of 18 for all services outside of the HIV Screening (13 year and up).\n\nServices that may be available: \n\nHIV testing (13+ years old\, results within 20 minutes)\nLinkage to care and community resources offering some amazing services.\n\n\nDurfee Flyer (2)
URL:https://liferemodeled.org/event/wayne-mobile-health-unit-4/
LOCATION:Durfee Innovation Society\, 2470 Collingwood St.\, Detroit\, MI\, 48206\, United States
CATEGORIES:DIS
ATTACH;FMTTYPE=image/jpeg:https://liferemodeled.org/wp-content/uploads/2025/03/ways-mobile.jpg
END:VEVENT
BEGIN:VEVENT
DTSTART;TZID=UTC:20250331T100000
DTEND;TZID=UTC:20250331T160000
DTSTAMP:20260423T092642
CREATED:20250317T160234Z
LAST-MODIFIED:20250317T160234Z
UID:10117-1743415200-1743436800@liferemodeled.org
SUMMARY:Wayne Mobile Health Unit
DESCRIPTION:Get Healthy in 2025! \nWHMU & Molina SERVICES: \n\nWomen’s Preventative Health Screening\nPre-pregnancy health services\nPrenatal care\nContraception\nBlood Pressure Screening\nGeneral Health Screenings: Diabetes\, Cholesterol\, Kidney Function screening\n2024-2025 Standard Influenza Vaccine (5+) *Subject to availability.  We bill health insurance for vaccines.  There is no cost to an individual who does not have insurance coverage.\nCOVID-19 PCR testing (3+ years old) for symptomatic individuals *we do not offer routine screening.\nAppointments not required\nParental/Guardian authorization is required for any individuals under the age of 18 for all services outside of the HIV Screening (13 year and up).\n\nServices that may be available: \n\nHIV testing (13+ years old\, results within 20 minutes)\nLinkage to care and community resources offering some amazing services.\n\n\nDurfee Flyer (2)
URL:https://liferemodeled.org/event/wayne-mobile-health-unit-3/
LOCATION:Durfee Innovation Society\, 2470 Collingwood St.\, Detroit\, MI\, 48206\, United States
CATEGORIES:DIS
ATTACH;FMTTYPE=image/jpeg:https://liferemodeled.org/wp-content/uploads/2025/03/ways-mobile.jpg
END:VEVENT
BEGIN:VEVENT
DTSTART;TZID=UTC:20250329T120000
DTEND;TZID=UTC:20250329T170000
DTSTAMP:20260423T092642
CREATED:20241028T180336Z
LAST-MODIFIED:20241028T180336Z
UID:9752-1743249600-1743267600@liferemodeled.org
SUMMARY:Threads for Success
DESCRIPTION:
URL:https://liferemodeled.org/event/threads-for-success-2/
LOCATION:Durfee Innovation Society\, 2470 Collingwood St.\, Detroit\, MI\, 48206\, United States
CATEGORIES:DIS
ATTACH;FMTTYPE=image/jpeg:https://liferemodeled.org/wp-content/uploads/2024/10/suit-1971670_1280.jpg
END:VEVENT
BEGIN:VEVENT
DTSTART;TZID=UTC:20250324T100000
DTEND;TZID=UTC:20250324T160000
DTSTAMP:20260423T092642
CREATED:20250317T160042Z
LAST-MODIFIED:20250317T160042Z
UID:10115-1742810400-1742832000@liferemodeled.org
SUMMARY:Wayne Mobile Health Unit
DESCRIPTION:Get Healthy in 2025! \nWHMU & Molina SERVICES: \n\nWomen’s Preventative Health Screening\nPre-pregnancy health services\nPrenatal care\nContraception\nBlood Pressure Screening\nGeneral Health Screenings: Diabetes\, Cholesterol\, Kidney Function screening\n2024-2025 Standard Influenza Vaccine (5+) *Subject to availability.  We bill health insurance for vaccines.  There is no cost to an individual who does not have insurance coverage.\nCOVID-19 PCR testing (3+ years old) for symptomatic individuals *we do not offer routine screening.\nAppointments not required\nParental/Guardian authorization is required for any individuals under the age of 18 for all services outside of the HIV Screening (13 year and up).\n\nServices that may be available: \n\nHIV testing (13+ years old\, results within 20 minutes)\nLinkage to care and community resources offering some amazing services.\n\n\nDurfee Flyer (2)
URL:https://liferemodeled.org/event/wayne-mobile-health-unit-2/
LOCATION:Durfee Innovation Society\, 2470 Collingwood St.\, Detroit\, MI\, 48206\, United States
CATEGORIES:DIS
ATTACH;FMTTYPE=image/jpeg:https://liferemodeled.org/wp-content/uploads/2025/03/ways-mobile.jpg
END:VEVENT
BEGIN:VEVENT
DTSTART;TZID=UTC:20250319T090000
DTEND;TZID=UTC:20250319T150000
DTSTAMP:20260423T092642
CREATED:20250224T191620Z
LAST-MODIFIED:20250224T191620Z
UID:10044-1742374800-1742396400@liferemodeled.org
SUMMARY:Detroit at Work Resource Fair
DESCRIPTION:
URL:https://liferemodeled.org/event/detroit-at-work-resource-fair-2/
LOCATION:Durfee Innovation Society\, 2470 Collingwood St.\, Detroit\, MI\, 48206\, United States
CATEGORIES:DIS
ATTACH;FMTTYPE=image/png:https://liferemodeled.org/wp-content/uploads/2023/05/detroit-at-work.png
END:VEVENT
BEGIN:VEVENT
DTSTART;TZID=UTC:20250317T100000
DTEND;TZID=UTC:20250317T160000
DTSTAMP:20260423T092642
CREATED:20250317T155327Z
LAST-MODIFIED:20250317T155327Z
UID:10110-1742205600-1742227200@liferemodeled.org
SUMMARY:Wayne Mobile Health Unit
DESCRIPTION:Get Healthy in 2025! \nWHMU & Molina SERVICES: \n\nWomen’s Preventative Health Screening\nPre-pregnancy health services\nPrenatal care\nContraception\nBlood Pressure Screening\nGeneral Health Screenings: Diabetes\, Cholesterol\, Kidney Function screening\n2024-2025 Standard Influenza Vaccine (5+) *Subject to availability.  We bill health insurance for vaccines.  There is no cost to an individual who does not have insurance coverage.\nCOVID-19 PCR testing (3+ years old) for symptomatic individuals *we do not offer routine screening.\nAppointments not required\nParental/Guardian authorization is required for any individuals under the age of 18 for all services outside of the HIV Screening (13 year and up).\n\nServices that may be available: \n\nHIV testing (13+ years old\, results within 20 minutes)\nLinkage to care and community resources offering some amazing services.\n\n\nDurfee Flyer (2)
URL:https://liferemodeled.org/event/wayne-mobile-health-unit/
LOCATION:Durfee Innovation Society\, 2470 Collingwood St.\, Detroit\, MI\, 48206\, United States
CATEGORIES:DIS
ATTACH;FMTTYPE=image/jpeg:https://liferemodeled.org/wp-content/uploads/2025/03/ways-mobile.jpg
END:VEVENT
BEGIN:VEVENT
DTSTART;TZID=UTC:20250312T090000
DTEND;TZID=UTC:20250312T150000
DTSTAMP:20260423T092642
CREATED:20250224T191236Z
LAST-MODIFIED:20250224T191236Z
UID:10042-1741770000-1741791600@liferemodeled.org
SUMMARY:Detroit at Work Job Fair
DESCRIPTION:
URL:https://liferemodeled.org/event/detroit-at-work-job-fair-6/
LOCATION:Durfee Innovation Society\, 2470 Collingwood St.\, Detroit\, MI\, 48206\, United States
CATEGORIES:DIS
ATTACH;FMTTYPE=image/jpeg:https://liferemodeled.org/wp-content/uploads/2021/03/DAW1.jpg
END:VEVENT
BEGIN:VEVENT
DTSTART;TZID=UTC:20241214T110000
DTEND;TZID=UTC:20241214T130000
DTSTAMP:20260423T092642
CREATED:20241206T202000Z
LAST-MODIFIED:20241206T202000Z
UID:9875-1734174000-1734181200@liferemodeled.org
SUMMARY:Free Parenting Class
DESCRIPTION:
URL:https://liferemodeled.org/event/free-parenting-class/
LOCATION:Durfee Innovation Society\, 2470 Collingwood St.\, Detroit\, MI\, 48206\, United States
CATEGORIES:DIS
ATTACH;FMTTYPE=image/jpeg:https://liferemodeled.org/wp-content/uploads/2024/12/DPT-Durfee-Parenting-Class-Post-Page-1-Dec-2024.jpg
END:VEVENT
BEGIN:VEVENT
DTSTART;TZID=UTC:20241114T100000
DTEND;TZID=UTC:20241114T150000
DTSTAMP:20260423T092642
CREATED:20241021T185737Z
LAST-MODIFIED:20241021T185737Z
UID:9739-1731578400-1731596400@liferemodeled.org
SUMMARY:Detroit at Work Job Fair
DESCRIPTION:
URL:https://liferemodeled.org/event/detroit-at-work-job-fair-5/
LOCATION:Durfee Innovation Society\, 2470 Collingwood St.\, Detroit\, MI\, 48206\, United States
CATEGORIES:DIS
ATTACH;FMTTYPE=image/png:https://liferemodeled.org/wp-content/uploads/2023/05/detroit-at-work.png
END:VEVENT
BEGIN:VEVENT
DTSTART;TZID=UTC:20241025T160000
DTEND;TZID=UTC:20241025T190000
DTSTAMP:20260423T092642
CREATED:20241021T185518Z
LAST-MODIFIED:20241021T185518Z
UID:9737-1729872000-1729882800@liferemodeled.org
SUMMARY:DIS Trunk or Treat
DESCRIPTION:
URL:https://liferemodeled.org/event/dis-trunk-or-treat-2/
LOCATION:Durfee Innovation Society\, 2470 Collingwood St.\, Detroit\, MI\, 48206\, United States
CATEGORIES:DIS,Life Remodeled
ATTACH;FMTTYPE=image/jpeg:https://liferemodeled.org/wp-content/uploads/2023/08/trunkortreat_logo13.jpg
END:VEVENT
BEGIN:VEVENT
DTSTART;TZID=UTC:20240924T130000
DTEND;TZID=UTC:20240924T150000
DTSTAMP:20260423T092642
CREATED:20240624T162320Z
LAST-MODIFIED:20240624T162405Z
UID:9554-1727182800-1727190000@liferemodeled.org
SUMMARY:PNC Mobile Banking in Parking Lot
DESCRIPTION:  \nPNC’s Retail Banking and Community Development Banking teams are actively using mobile branches as community outreach tools to extend essential banking services into low- and moderate-income communities and strengthen relationships with unbanked or underbanked members of these communities. \nThe PNC Mobile Branch will be located in the DIS parking lot
URL:https://liferemodeled.org/event/pnc-mobile-banking-in-parking-lot-13/
LOCATION:Durfee Innovation Society\, 2470 Collingwood St.\, Detroit\, MI\, 48206\, United States
CATEGORIES:DIS
ATTACH;FMTTYPE=image/jpeg:https://liferemodeled.org/wp-content/uploads/2023/05/20190926pnc.jpg
END:VEVENT
BEGIN:VEVENT
DTSTART;TZID=UTC:20240923T080000
DTEND;TZID=UTC:20240923T180000
DTSTAMP:20260423T092642
CREATED:20240624T162715Z
LAST-MODIFIED:20240624T162715Z
UID:9556-1727078400-1727114400@liferemodeled.org
SUMMARY:Life Line Screening
DESCRIPTION:
URL:https://liferemodeled.org/event/life-line-screening-2/
LOCATION:Durfee Innovation Society\, 2470 Collingwood St.\, Detroit\, MI\, 48206\, United States
CATEGORIES:DIS
ATTACH;FMTTYPE=image/jpeg:https://liferemodeled.org/wp-content/uploads/2024/01/LLS.jpeg
END:VEVENT
BEGIN:VEVENT
DTSTART;TZID=UTC:20240910T130000
DTEND;TZID=UTC:20240910T150000
DTSTAMP:20260423T092642
CREATED:20240624T162143Z
LAST-MODIFIED:20240624T162840Z
UID:9552-1725973200-1725980400@liferemodeled.org
SUMMARY:PNC Mobile Banking in Parking Lot
DESCRIPTION:  \nPNC’s Retail Banking and Community Development Banking teams are actively using mobile branches as community outreach tools to extend essential banking services into low- and moderate-income communities and strengthen relationships with unbanked or underbanked members of these communities. \nThe PNC Mobile Branch will be located in the DIS parking lot
URL:https://liferemodeled.org/event/pnc-mobile-banking-in-parking-lot-12/
LOCATION:Durfee Innovation Society\, 2470 Collingwood St.\, Detroit\, MI\, 48206\, United States
CATEGORIES:DIS
ATTACH;FMTTYPE=image/jpeg:https://liferemodeled.org/wp-content/uploads/2023/05/20190926pnc.jpg
END:VEVENT
BEGIN:VEVENT
DTSTART;TZID=UTC:20240827T130000
DTEND;TZID=UTC:20240827T150000
DTSTAMP:20260423T092642
CREATED:20240624T161538Z
LAST-MODIFIED:20240624T161538Z
UID:9550-1724763600-1724770800@liferemodeled.org
SUMMARY:PNC Mobile Banking in Parking Lot
DESCRIPTION:  \nPNC’s Retail Banking and Community Development Banking teams are actively using mobile branches as community outreach tools to extend essential banking services into low- and moderate-income communities and strengthen relationships with unbanked or underbanked members of these communities. \nThe PNC Mobile Branch will be located in the DIS parking lot
URL:https://liferemodeled.org/event/pnc-mobile-banking-in-parking-lot-11/
LOCATION:Durfee Innovation Society\, 2470 Collingwood St.\, Detroit\, MI\, 48206\, United States
CATEGORIES:DIS
ATTACH;FMTTYPE=image/jpeg:https://liferemodeled.org/wp-content/uploads/2023/05/20190926pnc.jpg
END:VEVENT
BEGIN:VEVENT
DTSTART;TZID=UTC:20240816T160000
DTEND;TZID=UTC:20240816T190000
DTSTAMP:20260423T092642
CREATED:20240318T163616Z
LAST-MODIFIED:20240725T171346Z
UID:9308-1723824000-1723834800@liferemodeled.org
SUMMARY:Durfee Innovation Society Community Fair
DESCRIPTION:The Durfee Innovation Society Community Fair in partnership with All.In is a great community event including food\, music\, health & wellness resources and activities for kids and adults.\nThis event is totally FREE!
URL:https://liferemodeled.org/event/discommunityfair/
LOCATION:Durfee Innovation Society\, 2470 Collingwood St.\, Detroit\, MI\, 48206\, United States
CATEGORIES:DIS,Life Remodeled
ATTACH;FMTTYPE=image/png:https://liferemodeled.org/wp-content/uploads/2024/03/Comm-Fair-1200x1200-general-e1721927591253.png
END:VEVENT
BEGIN:VEVENT
DTSTART;TZID=UTC:20240813T130000
DTEND;TZID=UTC:20240813T150000
DTSTAMP:20260423T092642
CREATED:20240624T160306Z
LAST-MODIFIED:20240624T161415Z
UID:9548-1723554000-1723561200@liferemodeled.org
SUMMARY:PNC Mobile Banking in Parking Lot
DESCRIPTION:  \nPNC’s Retail Banking and Community Development Banking teams are actively using mobile branches as community outreach tools to extend essential banking services into low- and moderate-income communities and strengthen relationships with unbanked or underbanked members of these communities. \nThe PNC Mobile Branch will be located in the DIS parking lot
URL:https://liferemodeled.org/event/pnc-mobile-banking-in-parking-lot-10/
LOCATION:Durfee Innovation Society\, 2470 Collingwood St.\, Detroit\, MI\, 48206\, United States
CATEGORIES:DIS
ATTACH;FMTTYPE=image/jpeg:https://liferemodeled.org/wp-content/uploads/2023/05/20190926pnc.jpg
END:VEVENT
BEGIN:VEVENT
DTSTART;TZID=UTC:20240730T130000
DTEND;TZID=UTC:20240730T150000
DTSTAMP:20260423T092642
CREATED:20240624T160133Z
LAST-MODIFIED:20240624T161840Z
UID:9546-1722344400-1722351600@liferemodeled.org
SUMMARY:PNC Mobile Banking in Parking Lot
DESCRIPTION:  \nPNC’s Retail Banking and Community Development Banking teams are actively using mobile branches as community outreach tools to extend essential banking services into low- and moderate-income communities and strengthen relationships with unbanked or underbanked members of these communities. \nThe PNC Mobile Branch will be located in the DIS parking lot
URL:https://liferemodeled.org/event/pnc-mobile-banking-in-parking-lot-9/
LOCATION:Durfee Innovation Society\, 2470 Collingwood St.\, Detroit\, MI\, 48206\, United States
CATEGORIES:DIS
ATTACH;FMTTYPE=image/jpeg:https://liferemodeled.org/wp-content/uploads/2023/05/20190926pnc.jpg
END:VEVENT
BEGIN:VEVENT
DTSTART;TZID=UTC:20240717T130000
DTEND;TZID=UTC:20240717T150000
DTSTAMP:20260423T092642
CREATED:20240624T155625Z
LAST-MODIFIED:20240624T161955Z
UID:9544-1721221200-1721228400@liferemodeled.org
SUMMARY:PNC Mobile Banking in Parking Lot
DESCRIPTION:  \nPNC’s Retail Banking and Community Development Banking teams are actively using mobile branches as community outreach tools to extend essential banking services into low- and moderate-income communities and strengthen relationships with unbanked or underbanked members of these communities. \nThe PNC Mobile Branch will be located in the DIS parking lot
URL:https://liferemodeled.org/event/pnc-mobile-banking-in-parking-lot-8/
LOCATION:Durfee Innovation Society\, 2470 Collingwood St.\, Detroit\, MI\, 48206\, United States
CATEGORIES:DIS
ATTACH;FMTTYPE=image/jpeg:https://liferemodeled.org/wp-content/uploads/2023/05/20190926pnc.jpg
END:VEVENT
BEGIN:VEVENT
DTSTART;TZID=UTC:20240618T130000
DTEND;TZID=UTC:20240618T150000
DTSTAMP:20260423T092642
CREATED:20240401T165128Z
LAST-MODIFIED:20240401T165128Z
UID:9391-1718715600-1718722800@liferemodeled.org
SUMMARY:PNC Mobile Banking in Parking Lot
DESCRIPTION:  \nPNC’s Retail Banking and Community Development Banking teams are actively using mobile branches as community outreach tools to extend essential banking services into low- and moderate-income communities and strengthen relationships with unbanked or underbanked members of these communities. \nThe PNC Mobile Branch will be located in the DIS parking lot
URL:https://liferemodeled.org/event/pnc-mobile-banking-in-parking-lot-6/
LOCATION:Durfee Innovation Society\, 2470 Collingwood St.\, Detroit\, MI\, 48206\, United States
CATEGORIES:DIS
ATTACH;FMTTYPE=image/jpeg:https://liferemodeled.org/wp-content/uploads/2023/05/20190926pnc.jpg
END:VEVENT
BEGIN:VEVENT
DTSTART;TZID=UTC:20240604T130000
DTEND;TZID=UTC:20240604T150000
DTSTAMP:20260423T092642
CREATED:20240401T164722Z
LAST-MODIFIED:20240401T164722Z
UID:9389-1717506000-1717513200@liferemodeled.org
SUMMARY:PNC Mobile Banking in Parking Lot
DESCRIPTION:  \nPNC’s Retail Banking and Community Development Banking teams are actively using mobile branches as community outreach tools to extend essential banking services into low- and moderate-income communities and strengthen relationships with unbanked or underbanked members of these communities. \nThe PNC Mobile Branch will be located in the DIS parking lot
URL:https://liferemodeled.org/event/pnc-mobile-banking-in-parking-lot-5/
LOCATION:Durfee Innovation Society\, 2470 Collingwood St.\, Detroit\, MI\, 48206\, United States
CATEGORIES:DIS
ATTACH;FMTTYPE=image/jpeg:https://liferemodeled.org/wp-content/uploads/2023/05/20190926pnc.jpg
END:VEVENT
BEGIN:VEVENT
DTSTART;TZID=UTC:20240521T130000
DTEND;TZID=UTC:20240521T150000
DTSTAMP:20260423T092642
CREATED:20240401T164538Z
LAST-MODIFIED:20240401T164538Z
UID:9387-1716296400-1716303600@liferemodeled.org
SUMMARY:PNC Banking in Parking Lot
DESCRIPTION:  \nPNC’s Retail Banking and Community Development Banking teams are actively using mobile branches as community outreach tools to extend essential banking services into low- and moderate-income communities and strengthen relationships with unbanked or underbanked members of these communities. \nThe PNC Mobile Branch will be located in the DIS parking lot
URL:https://liferemodeled.org/event/pnc-banking-in-parking-lot/
LOCATION:Durfee Innovation Society\, 2470 Collingwood St.\, Detroit\, MI\, 48206\, United States
CATEGORIES:DIS
ATTACH;FMTTYPE=image/jpeg:https://liferemodeled.org/wp-content/uploads/2023/05/20190926pnc.jpg
END:VEVENT
END:VCALENDAR