BEGIN:VCALENDAR
VERSION:2.0
PRODID:-//Life Remodeled - ECPv6.15.20//NONSGML v1.0//EN
CALSCALE:GREGORIAN
METHOD:PUBLISH
X-WR-CALNAME:Life Remodeled
X-ORIGINAL-URL:https://liferemodeled.org
X-WR-CALDESC:Events for Life Remodeled
REFRESH-INTERVAL;VALUE=DURATION:PT1H
X-Robots-Tag:noindex
X-PUBLISHED-TTL:PT1H
BEGIN:VTIMEZONE
TZID:UTC
BEGIN:STANDARD
TZOFFSETFROM:+0000
TZOFFSETTO:+0000
TZNAME:UTC
DTSTART:20220101T000000
END:STANDARD
END:VTIMEZONE
BEGIN:VEVENT
DTSTART;TZID=UTC:20260228T110000
DTEND;TZID=UTC:20260228T143000
DTSTAMP:20260423T111946
CREATED:20260130T195416Z
LAST-MODIFIED:20260130T195416Z
UID:10607-1772276400-1772289000@liferemodeled.org
SUMMARY:LRCAC Black History Month Luncheon
DESCRIPTION:Join the Life Remodeled Community Advisory Council for their FREE Black History Month Luncheon. Saturday\, February 28\, 2026 from 11:00 am – 2:30 pm at the Durfee Innovation Society. \nThe keynote speaker is Dwan Dandridge\, CEO and Founder of Black Leaders of Detroit. \n  \nVisit bit.ly/BHL-26 to register. \n 
URL:https://liferemodeled.org/event/lrcac-black-history-month-luncheon/
LOCATION:Durfee Innovation Society\, 2470 Collingwood St.\, Detroit\, MI\, 48206\, United States
CATEGORIES:DIS,Life Remodeled
ATTACH;FMTTYPE=image/jpeg:https://liferemodeled.org/wp-content/uploads/2026/01/LRAC_BHL-26-for-web.jpg
END:VEVENT
BEGIN:VEVENT
DTSTART;TZID=UTC:20250929T080000
DTEND;TZID=UTC:20251004T170000
DTSTAMP:20260423T111946
CREATED:20241122T213218Z
LAST-MODIFIED:20241125T225033Z
UID:9805-1759132800-1759597200@liferemodeled.org
SUMMARY:Six Day Project 2025
DESCRIPTION:
URL:https://liferemodeled.org/event/six-day-project-2025/
LOCATION:Anchor Detroit\, 9740 McKinney Street\, Detroit\, 48224\, United States
CATEGORIES:Life Remodeled
ATTACH;FMTTYPE=image/jpeg:https://liferemodeled.org/wp-content/uploads/2024/11/1200X1200_6DP_PHOTOS-03-scaled.jpg
END:VEVENT
BEGIN:VEVENT
DTSTART;TZID=UTC:20250815T160000
DTEND;TZID=UTC:20250815T200000
DTSTAMP:20260423T111946
CREATED:20250626T172108Z
LAST-MODIFIED:20250626T172108Z
UID:10280-1755273600-1755288000@liferemodeled.org
SUMMARY:Durfee Innovation Society Community Fair
DESCRIPTION:
URL:https://liferemodeled.org/event/durfee-innovation-society-community-fair/
LOCATION:Durfee Innovation Society\, 2470 Collingwood St.\, Detroit\, MI\, 48206\, United States
CATEGORIES:DIS,Life Remodeled
ATTACH;FMTTYPE=image/jpeg:https://liferemodeled.org/wp-content/uploads/2025/06/Comm-Fair-25-1200x1200-general-scaled.jpg
END:VEVENT
BEGIN:VEVENT
DTSTART;TZID=UTC:20250426T190000
DTEND;TZID=UTC:20250426T233000
DTSTAMP:20260423T111946
CREATED:20240624T165604Z
LAST-MODIFIED:20241024T194934Z
UID:9558-1745694000-1745710200@liferemodeled.org
SUMMARY:Prom Remodeled 2025
DESCRIPTION:Save the Date! \nMore information coming.
URL:https://liferemodeled.org/event/prom-remodeled-2025/
LOCATION:Durfee Innovation Society\, 2470 Collingwood St.\, Detroit\, MI\, 48206\, United States
CATEGORIES:Life Remodeled
ATTACH;FMTTYPE=image/png:https://liferemodeled.org/wp-content/uploads/2023/10/Prom-Eventbrite-graphic.png
END:VEVENT
BEGIN:VEVENT
DTSTART;TZID=UTC:20250313T080000
DTEND;TZID=UTC:20250313T150000
DTSTAMP:20260423T111946
CREATED:20241122T213359Z
LAST-MODIFIED:20241126T174618Z
UID:9808-1741852800-1741878000@liferemodeled.org
SUMMARY:Career Vision Day 2025
DESCRIPTION:
URL:https://liferemodeled.org/event/career-vision-day-2025/
LOCATION:MI
CATEGORIES:Life Remodeled
ATTACH;FMTTYPE=image/jpeg:https://liferemodeled.org/wp-content/uploads/2024/11/52937084982_8e31f2ff09_k-1.jpg
END:VEVENT
BEGIN:VEVENT
DTSTART;TZID=UTC:20241025T160000
DTEND;TZID=UTC:20241025T190000
DTSTAMP:20260423T111946
CREATED:20241021T185518Z
LAST-MODIFIED:20241021T185518Z
UID:9737-1729872000-1729882800@liferemodeled.org
SUMMARY:DIS Trunk or Treat
DESCRIPTION:
URL:https://liferemodeled.org/event/dis-trunk-or-treat-2/
LOCATION:Durfee Innovation Society\, 2470 Collingwood St.\, Detroit\, MI\, 48206\, United States
CATEGORIES:DIS,Life Remodeled
ATTACH;FMTTYPE=image/jpeg:https://liferemodeled.org/wp-content/uploads/2023/08/trunkortreat_logo13.jpg
END:VEVENT
BEGIN:VEVENT
DTSTART;TZID=UTC:20241018T180000
DTEND;TZID=UTC:20241018T210000
DTSTAMP:20260423T111946
CREATED:20241004T181140Z
LAST-MODIFIED:20241004T181140Z
UID:9717-1729274400-1729285200@liferemodeled.org
SUMMARY:Detroit Uncorked
DESCRIPTION:Presented by the Detroit Wine Organization & benefiting Life Remodeled \nJoin the Detroit Wine Organization & Life Remodeled at the Durfee Innovation Society for a night of wine\, food and fun. Sip on the finest wines while enjoying delicious bites from local restaurants. This in-person event is a great opportunity to mingle with fellow wine enthusiasts and discover new favorites. Whether you’re a wine connoisseur or just enjoy a good glass\, Detroit Uncorked is the place to be. Mark your calendars and get ready for a night to remember! \nYour ticket to the event includes: \n\n200+ wines from Michigan\, California\, Pacific Northwest and other countries of the world\nNot just wine– spirits & Beer samples too!\nStrolling dinner and dessert to compliment wine selections\nSilent Auction featuring wine and experiences with a wide variety of value\n\nGuests range from the curious novice to the discerning aficionado\, to companies hosting their premier clients\, employees\, and more. Grab your ticket today! \n 
URL:https://liferemodeled.org/event/detroit-uncorked/
LOCATION:Durfee Innovation Society\, 2470 Collingwood St.\, Detroit\, MI\, 48206\, United States
CATEGORIES:Life Remodeled
ATTACH;FMTTYPE=image/jpeg:https://liferemodeled.org/wp-content/uploads/2024/09/https___cdn.evbuc_.com_images_817512129_213618556347_1_original.jpeg
END:VEVENT
BEGIN:VEVENT
DTSTART;TZID=UTC:20240928T120000
DTEND;TZID=UTC:20240928T160000
DTSTAMP:20260423T111946
CREATED:20240729T164731Z
LAST-MODIFIED:20240729T164731Z
UID:9636-1727524800-1727539200@liferemodeled.org
SUMMARY:Anchor Detroit Community Fair
DESCRIPTION:
URL:https://liferemodeled.org/event/anchor-detroit-community-fair/
LOCATION:Anchor Detroit\, 9740 McKinney Street\, Detroit\, 48224\, United States
CATEGORIES:Life Remodeled
ATTACH;FMTTYPE=image/png:https://liferemodeled.org/wp-content/uploads/2024/07/AD-Comm-Fair-1200x1200-1-e1722271485875.png
END:VEVENT
BEGIN:VEVENT
DTSTART;TZID=UTC:20240923T110000
DTEND;TZID=UTC:20240928T170000
DTSTAMP:20260423T111946
CREATED:20240624T165932Z
LAST-MODIFIED:20240624T165932Z
UID:9561-1727089200-1727542800@liferemodeled.org
SUMMARY:Six Day Project
DESCRIPTION:
URL:https://liferemodeled.org/event/six-day-project/
LOCATION:MI
CATEGORIES:Life Remodeled
ATTACH;FMTTYPE=image/jpeg:https://liferemodeled.org/wp-content/uploads/2023/05/6DP-logo.jpg
END:VEVENT
BEGIN:VEVENT
DTSTART;TZID=UTC:20240816T160000
DTEND;TZID=UTC:20240816T190000
DTSTAMP:20260423T111946
CREATED:20240318T163616Z
LAST-MODIFIED:20240725T171346Z
UID:9308-1723824000-1723834800@liferemodeled.org
SUMMARY:Durfee Innovation Society Community Fair
DESCRIPTION:The Durfee Innovation Society Community Fair in partnership with All.In is a great community event including food\, music\, health & wellness resources and activities for kids and adults.\nThis event is totally FREE!
URL:https://liferemodeled.org/event/discommunityfair/
LOCATION:Durfee Innovation Society\, 2470 Collingwood St.\, Detroit\, MI\, 48206\, United States
CATEGORIES:DIS,Life Remodeled
ATTACH;FMTTYPE=image/png:https://liferemodeled.org/wp-content/uploads/2024/03/Comm-Fair-1200x1200-general-e1721927591253.png
END:VEVENT
BEGIN:VEVENT
DTSTART;TZID=UTC:20240518T190000
DTEND;TZID=UTC:20240518T230000
DTSTAMP:20260423T111946
CREATED:20231012T175040Z
LAST-MODIFIED:20240130T214032Z
UID:8823-1716058800-1716073200@liferemodeled.org
SUMMARY:Prom Remodeled
DESCRIPTION:Prom Remodeled is your opportunity to re-live or re-do one of your most important high school memories\, but this time with a more important purpose. Experience one of Detroit’s most iconic\, must-attend annual events with a superstar lineup of entertainment. Get your prom dresses and tuxedos ready to roll up in a limo and walk the red carpet. Enjoy a variety of strolling hors d’oeuvres and cocktails in Detroit’s formerly vacant Durfee Middle School\, now repurposed into the Durfee Innovation Society. Maybe you’ll win best dressed or possibly even become a Prom King or Queen? But more importantly\, this is your opportunity to re-do prom with a purpose. Help us renovate the former Dominican High School we recently purchased on Detroit’s eastside! Ensure more: \n• students perform at or above grade level in math & reading \n• families have access to essential health & wellness services \n• community members obtain higher paying jobs & achieve economic self-sufficiency \nFor more information\, please contact Omari Taylor\, Chief Advancement Officer om***@***********ed.org or (313) 744-3052\, ext. 1001.
URL:https://liferemodeled.org/event/prom-remodeled-2/
LOCATION:Durfee Innovation Society\, 2470 Collingwood St.\, Detroit\, MI\, 48206\, United States
CATEGORIES:Life Remodeled
ATTACH;FMTTYPE=image/jpeg:https://liferemodeled.org/wp-content/uploads/2023/10/Prom-Eventbrite-graphic-800x400-V3.jpg
END:VEVENT
BEGIN:VEVENT
DTSTART;TZID=UTC:20231208T160000
DTEND;TZID=UTC:20231208T190000
DTSTAMP:20260423T111946
CREATED:20231101T173352Z
LAST-MODIFIED:20231108T193124Z
UID:8865-1702051200-1702062000@liferemodeled.org
SUMMARY:LIT Friday Pajama Jam
DESCRIPTION:More information coming.
URL:https://liferemodeled.org/event/lit-friday-pajama-jam/
LOCATION:Durfee Innovation Society\, 2470 Collingwood St.\, Detroit\, MI\, 48206\, United States
CATEGORIES:DIS,Life Remodeled
ATTACH;FMTTYPE=image/jpeg:https://liferemodeled.org/wp-content/uploads/2023/11/DSZ_6618_resize.jpg
END:VEVENT
BEGIN:VEVENT
DTSTART;TZID=UTC:20231101T080000
DTEND;TZID=UTC:20231130T170000
DTSTAMP:20260423T111946
CREATED:20231101T171600Z
LAST-MODIFIED:20231101T171600Z
UID:8855-1698825600-1701363600@liferemodeled.org
SUMMARY:Namethatbuilding.org voting campaign
DESCRIPTION:Community members are encouraged to cast your vote to determine the name of our next opportunity hub. \nVisit namethatbuilding.org to vote. \nClick here to read more about the campaign.
URL:https://liferemodeled.org/event/namethatbuilding-org-voting-campaign/
LOCATION:Virtual
CATEGORIES:Life Remodeled
ATTACH;FMTTYPE=image/png:https://liferemodeled.org/wp-content/uploads/2023/10/DOH_A2_Dusk_V05_FINAL_Fix.png
END:VEVENT
BEGIN:VEVENT
DTSTART;TZID=UTC:20231027T170000
DTEND;TZID=UTC:20231027T190000
DTSTAMP:20260423T111946
CREATED:20230809T144341Z
LAST-MODIFIED:20231012T174821Z
UID:8546-1698426000-1698433200@liferemodeled.org
SUMMARY:DIS Trunk or Treat
DESCRIPTION:More information to come
URL:https://liferemodeled.org/event/dis-trunk-or-treat/
LOCATION:Durfee Innovation Society\, 2470 Collingwood St.\, Detroit\, MI\, 48206\, United States
CATEGORIES:DIS,Life Remodeled
ATTACH;FMTTYPE=image/jpeg:https://liferemodeled.org/wp-content/uploads/2023/08/trunkortreat_logo13.jpg
END:VEVENT
END:VCALENDAR